BEGIN:VCALENDAR
VERSION:2.0
PRODID:-//Greater Bethesda Missionary Baptist Church - ECPv6.15.20//NONSGML v1.0//EN
CALSCALE:GREGORIAN
METHOD:PUBLISH
X-WR-CALNAME:Greater Bethesda Missionary Baptist Church
X-ORIGINAL-URL:https://thepoolofbethesda.org
X-WR-CALDESC:Events for Greater Bethesda Missionary Baptist Church
REFRESH-INTERVAL;VALUE=DURATION:PT1H
X-Robots-Tag:noindex
X-PUBLISHED-TTL:PT1H
BEGIN:VTIMEZONE
TZID:America/Chicago
BEGIN:DAYLIGHT
TZOFFSETFROM:-0600
TZOFFSETTO:-0500
TZNAME:CDT
DTSTART:20160313T080000
END:DAYLIGHT
BEGIN:STANDARD
TZOFFSETFROM:-0500
TZOFFSETTO:-0600
TZNAME:CST
DTSTART:20161106T070000
END:STANDARD
BEGIN:DAYLIGHT
TZOFFSETFROM:-0600
TZOFFSETTO:-0500
TZNAME:CDT
DTSTART:20170312T080000
END:DAYLIGHT
BEGIN:STANDARD
TZOFFSETFROM:-0500
TZOFFSETTO:-0600
TZNAME:CST
DTSTART:20171105T070000
END:STANDARD
BEGIN:DAYLIGHT
TZOFFSETFROM:-0600
TZOFFSETTO:-0500
TZNAME:CDT
DTSTART:20180311T080000
END:DAYLIGHT
BEGIN:STANDARD
TZOFFSETFROM:-0500
TZOFFSETTO:-0600
TZNAME:CST
DTSTART:20181104T070000
END:STANDARD
END:VTIMEZONE
BEGIN:VTIMEZONE
TZID:America/New_York
BEGIN:DAYLIGHT
TZOFFSETFROM:-0500
TZOFFSETTO:-0400
TZNAME:EDT
DTSTART:20160313T070000
END:DAYLIGHT
BEGIN:STANDARD
TZOFFSETFROM:-0400
TZOFFSETTO:-0500
TZNAME:EST
DTSTART:20161106T060000
END:STANDARD
BEGIN:DAYLIGHT
TZOFFSETFROM:-0500
TZOFFSETTO:-0400
TZNAME:EDT
DTSTART:20170312T070000
END:DAYLIGHT
BEGIN:STANDARD
TZOFFSETFROM:-0400
TZOFFSETTO:-0500
TZNAME:EST
DTSTART:20171105T060000
END:STANDARD
BEGIN:DAYLIGHT
TZOFFSETFROM:-0500
TZOFFSETTO:-0400
TZNAME:EDT
DTSTART:20180311T070000
END:DAYLIGHT
BEGIN:STANDARD
TZOFFSETFROM:-0400
TZOFFSETTO:-0500
TZNAME:EST
DTSTART:20181104T060000
END:STANDARD
END:VTIMEZONE
BEGIN:VEVENT
DTSTART;TZID=America/Chicago:20170521T090000
DTEND;TZID=America/Chicago:20170521T100000
DTSTAMP:20260424T163921
CREATED:20170428T033745Z
LAST-MODIFIED:20170521T063727Z
UID:6602-1495357200-1495360800@thepoolofbethesda.org
SUMMARY:Breakfast Fellowship @ The Pool
DESCRIPTION:
URL:https://thepoolofbethesda.org/event/breakfast-fellowship-the-pool-4/
LOCATION:Greater Bethesda Missionary Baptist Church\, 109 E 53rd St\, Chicago\, IL 60615\, USA\, 109 E 53rd Street\, Chicago\, IL\, 60615\, United States
END:VEVENT
BEGIN:VEVENT
DTSTART;TZID=America/Chicago:20170521T080000
DTEND;TZID=America/Chicago:20170521T090000
DTSTAMP:20260424T163921
CREATED:20170428T033745Z
LAST-MODIFIED:20170521T063727Z
UID:6601-1495353600-1495357200@thepoolofbethesda.org
SUMMARY:Early Morning Worship Service
DESCRIPTION:
URL:https://thepoolofbethesda.org/event/early-morning-worship-service-4/
LOCATION:Greater Bethesda Missionary Baptist Church\, 109 E 53rd St\, Chicago\, IL 60615\, USA\, 109 E 53rd Street\, Chicago\, IL\, 60615\, United States
END:VEVENT
BEGIN:VEVENT
DTSTART;VALUE=DATE:20170521
DTEND;VALUE=DATE:20170522
DTSTAMP:20260424T163921
CREATED:20170428T033743Z
LAST-MODIFIED:20170521T063727Z
UID:6600-1495324800-1495324800@thepoolofbethesda.org
SUMMARY:Annual Women's Day
DESCRIPTION:
URL:https://thepoolofbethesda.org/event/annual-womens-day/
LOCATION:IL
END:VEVENT
BEGIN:VEVENT
DTSTART;TZID=America/Chicago:20170520T120000
DTEND;TZID=America/Chicago:20170520T130000
DTSTAMP:20260424T163921
CREATED:20170428T033743Z
LAST-MODIFIED:20170520T063351Z
UID:6599-1495281600-1495285200@thepoolofbethesda.org
SUMMARY:T.A.L.K.S. Youth Mentoring @ Chicago Youth Programs
DESCRIPTION:5350 S Prairie Ave\, Chicago\, IL 60615
URL:https://thepoolofbethesda.org/event/t-a-l-k-s-youth-mentoring-chicago-youth-programs-3/
LOCATION:5350 S Prairie Ave\, Chicago\, IL 60615\, USA\, 5350 S Prairie Ave\, Chicago\, IL\, United States
END:VEVENT
BEGIN:VEVENT
DTSTART;TZID=America/Chicago:20170517T190000
DTEND;TZID=America/Chicago:20170517T203000
DTSTAMP:20260424T163921
CREATED:20170428T033743Z
LAST-MODIFIED:20170517T061147Z
UID:6598-1495047600-1495053000@thepoolofbethesda.org
SUMMARY:Wednesday Night Bible Study
DESCRIPTION:
URL:https://thepoolofbethesda.org/event/wednesday-night-bible-study-3/
LOCATION:Greater Bethesda Missionary Baptist Church\, 109 E 53rd St\, Chicago\, IL 60615\, USA\, 109 E 53rd Street\, Chicago\, IL\, 60615\, United States
END:VEVENT
BEGIN:VEVENT
DTSTART;TZID=America/Chicago:20170514T100000
DTEND;TZID=America/Chicago:20170514T113000
DTSTAMP:20260424T163921
CREATED:20170428T033742Z
LAST-MODIFIED:20170514T054732Z
UID:6596-1494756000-1494761400@thepoolofbethesda.org
SUMMARY:Morning Worship Service
DESCRIPTION:
URL:https://thepoolofbethesda.org/event/morning-worship-service-3/
LOCATION:Greater Bethesda Missionary Baptist Church\, 109 E 53rd St\, Chicago\, IL 60615\, USA\, 109 E 53rd Street\, Chicago\, IL\, 60615\, United States
END:VEVENT
BEGIN:VEVENT
DTSTART;TZID=America/Chicago:20170514T090000
DTEND;TZID=America/Chicago:20170514T100000
DTSTAMP:20260424T163921
CREATED:20170428T033741Z
LAST-MODIFIED:20170514T054732Z
UID:6594-1494752400-1494756000@thepoolofbethesda.org
SUMMARY:Breakfast Fellowship @ The Pool
DESCRIPTION:
URL:https://thepoolofbethesda.org/event/breakfast-fellowship-the-pool-3/
LOCATION:Greater Bethesda Missionary Baptist Church\, 109 E 53rd St\, Chicago\, IL 60615\, USA\, 109 E 53rd Street\, Chicago\, IL\, 60615\, United States
END:VEVENT
BEGIN:VEVENT
DTSTART;TZID=America/Chicago:20170514T090000
DTEND;TZID=America/Chicago:20170514T100000
DTSTAMP:20260424T163921
CREATED:20170428T033741Z
LAST-MODIFIED:20170514T054732Z
UID:6595-1494752400-1494756000@thepoolofbethesda.org
SUMMARY:Sunday School / Hour of Power Classes
DESCRIPTION:
URL:https://thepoolofbethesda.org/event/sunday-school-hour-of-power-classes-3/
LOCATION:Greater Bethesda Missionary Baptist Church\, 109 E 53rd St\, Chicago\, IL 60615\, USA\, 109 E 53rd Street\, Chicago\, IL\, 60615\, United States
END:VEVENT
BEGIN:VEVENT
DTSTART;TZID=America/Chicago:20170514T080000
DTEND;TZID=America/Chicago:20170514T090000
DTSTAMP:20260424T163921
CREATED:20170428T033741Z
LAST-MODIFIED:20170514T054732Z
UID:6593-1494748800-1494752400@thepoolofbethesda.org
SUMMARY:Early Morning Worship Service
DESCRIPTION:
URL:https://thepoolofbethesda.org/event/early-morning-worship-service-3/
LOCATION:Greater Bethesda Missionary Baptist Church\, 109 E 53rd St\, Chicago\, IL 60615\, USA\, 109 E 53rd Street\, Chicago\, IL\, 60615\, United States
END:VEVENT
BEGIN:VEVENT
DTSTART;VALUE=DATE:20170514
DTEND;VALUE=DATE:20170515
DTSTAMP:20260424T163921
CREATED:20170428T033741Z
LAST-MODIFIED:20170514T054731Z
UID:6592-1494720000-1494720000@thepoolofbethesda.org
SUMMARY:Mother's Day
DESCRIPTION:
URL:https://thepoolofbethesda.org/event/mothers-day/
LOCATION:IL
END:VEVENT
BEGIN:VEVENT
DTSTART;TZID=America/Chicago:20170513T173000
DTEND;TZID=America/Chicago:20170513T193000
DTSTAMP:20260424T163921
CREATED:20170428T033740Z
LAST-MODIFIED:20170513T054735Z
UID:6591-1494696600-1494703800@thepoolofbethesda.org
SUMMARY:Sisterhood Meeting - Mothers Impacted by Gun Violence
DESCRIPTION:Hey Rev \nthe sisterhood meeting went well today they are very thankful for us helping them they want to meet every 2nd Thursday in the month for there board meeting in the lady parlor i told them it should not be a problem from 5:30 to 7pm so they should be gone before choir rehearsal start its about 10 of them and every 2nd Saturday from 5pm to 8pm i can stay down there with them also they said they will start donate something everytime they come  \nAntonio Davis\nFounder & Director\nPaving The Way Project\n109 E.53rd Street\nChicago\,IL 60615\nCell (773)709-717909-7179
URL:https://thepoolofbethesda.org/event/sisterhood-meeting-mothers-impacted-by-gun-violence/
LOCATION:Greater Bethesda Missionary Baptist Church\, 109 E 53rd St\, Chicago\, IL 60615\, USA\, 109 E 53rd Street\, Chicago\, IL\, 60615\, United States
END:VEVENT
BEGIN:VEVENT
DTSTART;TZID=America/Chicago:20170513T120000
DTEND;TZID=America/Chicago:20170513T130000
DTSTAMP:20260424T163921
CREATED:20170428T033202Z
LAST-MODIFIED:20170513T054735Z
UID:6574-1494676800-1494680400@thepoolofbethesda.org
SUMMARY:T.A.L.K.S. Youth Mentoring @ The Pool
DESCRIPTION:
URL:https://thepoolofbethesda.org/event/t-a-l-k-s-youth-mentoring-the-pool/
LOCATION:Greater Bethesda Missionary Baptist Church\, 109 E 53rd St\, Chicago\, IL 60615\, USA\, 109 E 53rd Street\, Chicago\, IL\, 60615\, United States
END:VEVENT
BEGIN:VEVENT
DTSTART;TZID=America/Chicago:20170510T190000
DTEND;TZID=America/Chicago:20170510T203000
DTSTAMP:20260424T163921
CREATED:20170428T033202Z
LAST-MODIFIED:20170510T053545Z
UID:6573-1494442800-1494448200@thepoolofbethesda.org
SUMMARY:Wednesday Night Bible Study
DESCRIPTION:
URL:https://thepoolofbethesda.org/event/wednesday-night-bible-study/
LOCATION:Greater Bethesda Missionary Baptist Church\, 109 E 53rd St\, Chicago\, IL 60615\, USA\, 109 E 53rd Street\, Chicago\, IL\, 60615\, United States
END:VEVENT
BEGIN:VEVENT
DTSTART;TZID=America/Chicago:20170507T100000
DTEND;TZID=America/Chicago:20170507T113000
DTSTAMP:20260424T163921
CREATED:20170428T033202Z
LAST-MODIFIED:20170507T051720Z
UID:6572-1494151200-1494156600@thepoolofbethesda.org
SUMMARY:Morning Worship Service
DESCRIPTION:
URL:https://thepoolofbethesda.org/event/morning-worship-service/
LOCATION:Greater Bethesda Missionary Baptist Church\, 109 E 53rd St\, Chicago\, IL 60615\, USA\, 109 E 53rd Street\, Chicago\, IL\, 60615\, United States
END:VEVENT
BEGIN:VEVENT
DTSTART;TZID=America/Chicago:20170507T090000
DTEND;TZID=America/Chicago:20170507T100000
DTSTAMP:20260424T163921
CREATED:20170428T033202Z
LAST-MODIFIED:20170507T051720Z
UID:6570-1494147600-1494151200@thepoolofbethesda.org
SUMMARY:Breakfast Fellowship @ The Pool
DESCRIPTION:
URL:https://thepoolofbethesda.org/event/breakfast-fellowship-the-pool/
LOCATION:Greater Bethesda Missionary Baptist Church\, 109 E 53rd St\, Chicago\, IL 60615\, USA\, 109 E 53rd Street\, Chicago\, IL\, 60615\, United States
END:VEVENT
BEGIN:VEVENT
DTSTART;TZID=America/Chicago:20170507T090000
DTEND;TZID=America/Chicago:20170507T100000
DTSTAMP:20260424T163921
CREATED:20170428T033202Z
LAST-MODIFIED:20170507T051720Z
UID:6571-1494147600-1494151200@thepoolofbethesda.org
SUMMARY:Sunday School / Hour of Power Classes
DESCRIPTION:
URL:https://thepoolofbethesda.org/event/sunday-school-hour-of-power-classes/
LOCATION:Greater Bethesda Missionary Baptist Church\, 109 E 53rd St\, Chicago\, IL 60615\, USA\, 109 E 53rd Street\, Chicago\, IL\, 60615\, United States
END:VEVENT
BEGIN:VEVENT
DTSTART;TZID=America/Chicago:20170507T080000
DTEND;TZID=America/Chicago:20170507T090000
DTSTAMP:20260424T163921
CREATED:20170428T033201Z
LAST-MODIFIED:20170507T051719Z
UID:6569-1494144000-1494147600@thepoolofbethesda.org
SUMMARY:Early Morning Worship Service
DESCRIPTION:
URL:https://thepoolofbethesda.org/event/early-morning-worship-service/
LOCATION:Greater Bethesda Missionary Baptist Church\, 109 E 53rd St\, Chicago\, IL 60615\, USA\, 109 E 53rd Street\, Chicago\, IL\, 60615\, United States
END:VEVENT
BEGIN:VEVENT
DTSTART;TZID=America/New_York:20170506T130000
DTEND;TZID=America/New_York:20170506T153000
DTSTAMP:20260424T163921
CREATED:20170428T105138Z
LAST-MODIFIED:20170506T121701Z
UID:7286-1494075600-1494084600@thepoolofbethesda.org
SUMMARY:Dear Momma -Single Mother Raising Children Forum
DESCRIPTION:Join us May -6-2017 at Greater Bethesda Church for Our Dear Momma Single Mother Raising Children Forum a Open Discussion and Panel Discussion about the challenges and Experience of been a Single Mother this is A Free Event and Open to the Public
URL:https://thepoolofbethesda.org/event/dear-momma-single-mother-raising-children-forum/
LOCATION:Greater Bethesda Missionary Baptist Church\, 109 E 53rd St\, Chicago\, IL\, 60615-3303\, United States
ATTACH;FMTTYPE=image/jpeg:https://thepoolofbethesda.org/wp-content/uploads/2017/04/8fb5b2f660d413c5a76edcb81923876c.jpg
END:VEVENT
BEGIN:VEVENT
DTSTART;TZID=America/Chicago:20170506T130000
DTEND;TZID=America/Chicago:20170506T153000
DTSTAMP:20260424T163921
CREATED:20170428T033201Z
LAST-MODIFIED:20170506T050743Z
UID:6568-1494075600-1494084600@thepoolofbethesda.org
SUMMARY:Dear Momma: Discussion and Presentation w/Paving the Way Project
DESCRIPTION:
URL:https://thepoolofbethesda.org/event/dear-momma-discussion-and-presentation-wpaving-the-way-project/
LOCATION:Greater Bethesda Missionary Baptist Church\, 109 E 53rd St\, Chicago\, IL 60615\, USA\, 109 E 53rd Street\, Chicago\, IL\, 60615\, United States
END:VEVENT
BEGIN:VEVENT
DTSTART;TZID=America/Chicago:20170506T120000
DTEND;TZID=America/Chicago:20170506T130000
DTSTAMP:20260424T163921
CREATED:20170428T033201Z
LAST-MODIFIED:20170506T050743Z
UID:6567-1494072000-1494075600@thepoolofbethesda.org
SUMMARY:T.A.L.K.S. Youth Mentoring @ Chicago Youth Programs
DESCRIPTION:5350 S Prairie Ave\, Chicago\, IL 60615
URL:https://thepoolofbethesda.org/event/t-a-l-k-s-youth-mentoring-chicago-youth-programs-2/
LOCATION:5350 S Prairie Ave\, Chicago\, IL 60615\, USA\, 5350 S Prairie Ave\, Chicago\, IL\, United States
END:VEVENT
BEGIN:VEVENT
DTSTART;TZID=America/Chicago:20170506T120000
DTEND;TZID=America/Chicago:20170506T130000
DTSTAMP:20260424T163921
CREATED:20170428T033201Z
LAST-MODIFIED:20170506T050743Z
UID:6566-1494072000-1494075600@thepoolofbethesda.org
SUMMARY:T.A.L.K.S. Youth Mentoring @ Chicago Youth Programs
DESCRIPTION:5350 S Prairie Ave\, Chicago\, IL 60615
URL:https://thepoolofbethesda.org/event/t-a-l-k-s-youth-mentoring-chicago-youth-programs/
LOCATION:5350 S Prairie Ave\, Chicago\, IL 60615\, USA\, 5350 S Prairie Ave\, Chicago\, IL\, United States
END:VEVENT
BEGIN:VEVENT
DTSTART;TZID=America/Chicago:20170505T123000
DTEND;TZID=America/Chicago:20170505T150000
DTSTAMP:20260424T163921
CREATED:20170428T033200Z
LAST-MODIFIED:20170505T050608Z
UID:6564-1493987400-1493996400@thepoolofbethesda.org
SUMMARY:Memorial Service for Mr. Clifford Davis
DESCRIPTION:
URL:https://thepoolofbethesda.org/event/memorial-service-for-mr-clifford-davis/
LOCATION:Greater Bethesda Missionary Baptist Church\, 109 E 53rd St\, Chicago\, IL 60615\, USA\, 109 E 53rd Street\, Chicago\, IL\, 60615\, United States
END:VEVENT
BEGIN:VEVENT
DTSTART;TZID=America/Chicago:20170503T190000
DTEND;TZID=America/Chicago:20170503T203000
DTSTAMP:20260424T163921
CREATED:20170428T033734Z
LAST-MODIFIED:20170503T044011Z
UID:6580-1493838000-1493843400@thepoolofbethesda.org
SUMMARY:Wednesday Night Bible Study
DESCRIPTION:
URL:https://thepoolofbethesda.org/event/wednesday-night-bible-study-2/
LOCATION:Greater Bethesda Missionary Baptist Church\, 109 E 53rd St\, Chicago\, IL 60615\, USA\, 109 E 53rd Street\, Chicago\, IL\, 60615\, United States
END:VEVENT
BEGIN:VEVENT
DTSTART;TZID=America/Chicago:20170430T100000
DTEND;TZID=America/Chicago:20170430T113000
DTSTAMP:20260424T163921
CREATED:20170428T033734Z
LAST-MODIFIED:20170429T034900Z
UID:6579-1493546400-1493551800@thepoolofbethesda.org
SUMMARY:Morning Worship Service
DESCRIPTION:
URL:https://thepoolofbethesda.org/event/morning-worship-service-2/
LOCATION:Greater Bethesda Missionary Baptist Church\, 109 E 53rd St\, Chicago\, IL 60615\, USA\, 109 E 53rd Street\, Chicago\, IL\, 60615\, United States
END:VEVENT
BEGIN:VEVENT
DTSTART;TZID=America/Chicago:20170430T090000
DTEND;TZID=America/Chicago:20170430T100000
DTSTAMP:20260424T163921
CREATED:20170428T033734Z
LAST-MODIFIED:20170429T034859Z
UID:6577-1493542800-1493546400@thepoolofbethesda.org
SUMMARY:Breakfast Fellowship @ The Pool
DESCRIPTION:
URL:https://thepoolofbethesda.org/event/breakfast-fellowship-the-pool-2/
LOCATION:Greater Bethesda Missionary Baptist Church\, 109 E 53rd St\, Chicago\, IL 60615\, USA\, 109 E 53rd Street\, Chicago\, IL\, 60615\, United States
END:VEVENT
BEGIN:VEVENT
DTSTART;TZID=America/Chicago:20170430T090000
DTEND;TZID=America/Chicago:20170430T100000
DTSTAMP:20260424T163921
CREATED:20170428T033734Z
LAST-MODIFIED:20170429T034859Z
UID:6578-1493542800-1493546400@thepoolofbethesda.org
SUMMARY:Sunday School / Hour of Power Classes
DESCRIPTION:
URL:https://thepoolofbethesda.org/event/sunday-school-hour-of-power-classes-2/
LOCATION:Greater Bethesda Missionary Baptist Church\, 109 E 53rd St\, Chicago\, IL 60615\, USA\, 109 E 53rd Street\, Chicago\, IL\, 60615\, United States
END:VEVENT
END:VCALENDAR