BEGIN:VCALENDAR
VERSION:2.0
PRODID:-//Greater Bethesda Missionary Baptist Church - ECPv6.15.20//NONSGML v1.0//EN
CALSCALE:GREGORIAN
METHOD:PUBLISH
X-WR-CALNAME:Greater Bethesda Missionary Baptist Church
X-ORIGINAL-URL:https://thepoolofbethesda.org
X-WR-CALDESC:Events for Greater Bethesda Missionary Baptist Church
REFRESH-INTERVAL;VALUE=DURATION:PT1H
X-Robots-Tag:noindex
X-PUBLISHED-TTL:PT1H
BEGIN:VTIMEZONE
TZID:America/Chicago
BEGIN:DAYLIGHT
TZOFFSETFROM:-0600
TZOFFSETTO:-0500
TZNAME:CDT
DTSTART:20160313T080000
END:DAYLIGHT
BEGIN:STANDARD
TZOFFSETFROM:-0500
TZOFFSETTO:-0600
TZNAME:CST
DTSTART:20161106T070000
END:STANDARD
BEGIN:DAYLIGHT
TZOFFSETFROM:-0600
TZOFFSETTO:-0500
TZNAME:CDT
DTSTART:20170312T080000
END:DAYLIGHT
BEGIN:STANDARD
TZOFFSETFROM:-0500
TZOFFSETTO:-0600
TZNAME:CST
DTSTART:20171105T070000
END:STANDARD
BEGIN:DAYLIGHT
TZOFFSETFROM:-0600
TZOFFSETTO:-0500
TZNAME:CDT
DTSTART:20180311T080000
END:DAYLIGHT
BEGIN:STANDARD
TZOFFSETFROM:-0500
TZOFFSETTO:-0600
TZNAME:CST
DTSTART:20181104T070000
END:STANDARD
END:VTIMEZONE
BEGIN:VTIMEZONE
TZID:America/New_York
BEGIN:DAYLIGHT
TZOFFSETFROM:-0500
TZOFFSETTO:-0400
TZNAME:EDT
DTSTART:20160313T070000
END:DAYLIGHT
BEGIN:STANDARD
TZOFFSETFROM:-0400
TZOFFSETTO:-0500
TZNAME:EST
DTSTART:20161106T060000
END:STANDARD
BEGIN:DAYLIGHT
TZOFFSETFROM:-0500
TZOFFSETTO:-0400
TZNAME:EDT
DTSTART:20170312T070000
END:DAYLIGHT
BEGIN:STANDARD
TZOFFSETFROM:-0400
TZOFFSETTO:-0500
TZNAME:EST
DTSTART:20171105T060000
END:STANDARD
BEGIN:DAYLIGHT
TZOFFSETFROM:-0500
TZOFFSETTO:-0400
TZNAME:EDT
DTSTART:20180311T070000
END:DAYLIGHT
BEGIN:STANDARD
TZOFFSETFROM:-0400
TZOFFSETTO:-0500
TZNAME:EST
DTSTART:20181104T060000
END:STANDARD
END:VTIMEZONE
BEGIN:VEVENT
DTSTART;TZID=America/Chicago:20170610T120000
DTEND;TZID=America/Chicago:20170610T130000
DTSTAMP:20260424T205604
CREATED:20170428T033753Z
LAST-MODIFIED:20170528T082236Z
UID:6622-1497096000-1497099600@thepoolofbethesda.org
SUMMARY:T.A.L.K.S. Youth Mentoring @ The Pool
DESCRIPTION:
URL:https://thepoolofbethesda.org/event/t-a-l-k-s-youth-mentoring-the-pool-3/
LOCATION:Greater Bethesda Missionary Baptist Church\, 109 E 53rd St\, Chicago\, IL 60615\, USA\, 109 E 53rd Street\, Chicago\, IL\, 60615\, United States
END:VEVENT
BEGIN:VEVENT
DTSTART;TZID=America/Chicago:20170607T190000
DTEND;TZID=America/Chicago:20170607T203000
DTSTAMP:20260424T205604
CREATED:20170428T033752Z
LAST-MODIFIED:20170528T082235Z
UID:6621-1496862000-1496867400@thepoolofbethesda.org
SUMMARY:Wednesday Night Bible Study
DESCRIPTION:
URL:https://thepoolofbethesda.org/event/wednesday-night-bible-study-6/
LOCATION:Greater Bethesda Missionary Baptist Church\, 109 E 53rd St\, Chicago\, IL 60615\, USA\, 109 E 53rd Street\, Chicago\, IL\, 60615\, United States
END:VEVENT
BEGIN:VEVENT
DTSTART;TZID=America/Chicago:20170604T100000
DTEND;TZID=America/Chicago:20170604T113000
DTSTAMP:20260424T205604
CREATED:20170428T033752Z
LAST-MODIFIED:20170528T082235Z
UID:6620-1496570400-1496575800@thepoolofbethesda.org
SUMMARY:Morning Worship Service
DESCRIPTION:
URL:https://thepoolofbethesda.org/event/morning-worship-service-6/
LOCATION:Greater Bethesda Missionary Baptist Church\, 109 E 53rd St\, Chicago\, IL 60615\, USA\, 109 E 53rd Street\, Chicago\, IL\, 60615\, United States
END:VEVENT
BEGIN:VEVENT
DTSTART;TZID=America/Chicago:20170604T090000
DTEND;TZID=America/Chicago:20170604T100000
DTSTAMP:20260424T205604
CREATED:20170428T033751Z
LAST-MODIFIED:20170528T082235Z
UID:6619-1496566800-1496570400@thepoolofbethesda.org
SUMMARY:Sunday School / Hour of Power Classes
DESCRIPTION:
URL:https://thepoolofbethesda.org/event/sunday-school-hour-of-power-classes-6/
LOCATION:Greater Bethesda Missionary Baptist Church\, 109 E 53rd St\, Chicago\, IL 60615\, USA\, 109 E 53rd Street\, Chicago\, IL\, 60615\, United States
END:VEVENT
BEGIN:VEVENT
DTSTART;TZID=America/Chicago:20170604T090000
DTEND;TZID=America/Chicago:20170604T100000
DTSTAMP:20260424T205604
CREATED:20170428T033751Z
LAST-MODIFIED:20170528T082234Z
UID:6618-1496566800-1496570400@thepoolofbethesda.org
SUMMARY:Breakfast Fellowship @ The Pool
DESCRIPTION:
URL:https://thepoolofbethesda.org/event/breakfast-fellowship-the-pool-6/
LOCATION:Greater Bethesda Missionary Baptist Church\, 109 E 53rd St\, Chicago\, IL 60615\, USA\, 109 E 53rd Street\, Chicago\, IL\, 60615\, United States
END:VEVENT
BEGIN:VEVENT
DTSTART;TZID=America/Chicago:20170604T080000
DTEND;TZID=America/Chicago:20170604T090000
DTSTAMP:20260424T205604
CREATED:20170428T033751Z
LAST-MODIFIED:20170528T082234Z
UID:6617-1496563200-1496566800@thepoolofbethesda.org
SUMMARY:Early Morning Worship Service
DESCRIPTION:
URL:https://thepoolofbethesda.org/event/early-morning-worship-service-6/
LOCATION:Greater Bethesda Missionary Baptist Church\, 109 E 53rd St\, Chicago\, IL 60615\, USA\, 109 E 53rd Street\, Chicago\, IL\, 60615\, United States
END:VEVENT
BEGIN:VEVENT
DTSTART;TZID=America/Chicago:20170603T120000
DTEND;TZID=America/Chicago:20170603T130000
DTSTAMP:20260424T205604
CREATED:20170428T033750Z
LAST-MODIFIED:20170528T082234Z
UID:6616-1496491200-1496494800@thepoolofbethesda.org
SUMMARY:T.A.L.K.S. Youth Mentoring @ Chicago Youth Programs
DESCRIPTION:5350 S Prairie Ave\, Chicago\, IL 60615
URL:https://thepoolofbethesda.org/event/t-a-l-k-s-youth-mentoring-chicago-youth-programs-4/
LOCATION:5350 S Prairie Ave\, Chicago\, IL 60615\, USA\, 5350 S Prairie Ave\, Chicago\, IL\, United States
END:VEVENT
BEGIN:VEVENT
DTSTART;TZID=America/Chicago:20170601T173000
DTEND;TZID=America/Chicago:20170601T213000
DTSTAMP:20260424T205604
CREATED:20170428T033749Z
LAST-MODIFIED:20170528T082234Z
UID:6615-1496338200-1496352600@thepoolofbethesda.org
SUMMARY:2017 Strides for Peace Walk / Run
DESCRIPTION:Join the Paving the Way Project and our partners\, Strides for Peace\, and help eliminate gun violence by participating in the 2017 Chicago Strides for Peace 5k/10k Run or 2k walk. The fun and festivities continue this year on a new date (Thursday\, June 1\, 2017) and new location (Grant Park). Join us again this year. This run/walk is for the entire family.  It is not too early to sign-up. Please see Antonio Davis or Philip Kingsley to sign-up/for additional information.
URL:https://thepoolofbethesda.org/event/2017-strides-for-peace-walk-run/
LOCATION:Upper Hutchinson Field\, Chicago\, IL 60605\, USA
END:VEVENT
BEGIN:VEVENT
DTSTART;TZID=America/Chicago:20170531T190000
DTEND;TZID=America/Chicago:20170531T203000
DTSTAMP:20260424T205604
CREATED:20170428T033749Z
LAST-MODIFIED:20170528T082233Z
UID:6613-1496257200-1496262600@thepoolofbethesda.org
SUMMARY:Wednesday Night Bible Study
DESCRIPTION:
URL:https://thepoolofbethesda.org/event/wednesday-night-bible-study-5/
LOCATION:Greater Bethesda Missionary Baptist Church\, 109 E 53rd St\, Chicago\, IL 60615\, USA\, 109 E 53rd Street\, Chicago\, IL\, 60615\, United States
END:VEVENT
BEGIN:VEVENT
DTSTART;VALUE=DATE:20170529
DTEND;VALUE=DATE:20170530
DTSTAMP:20260424T205604
CREATED:20170428T033749Z
LAST-MODIFIED:20170528T080143Z
UID:6612-1496016000-1496102399@thepoolofbethesda.org
SUMMARY:Memorial Day - Campus Closed
DESCRIPTION:
URL:https://thepoolofbethesda.org/event/memorial-day-campus-closed/
LOCATION:IL
END:VEVENT
BEGIN:VEVENT
DTSTART;TZID=America/Chicago:20170528T100000
DTEND;TZID=America/Chicago:20170528T113000
DTSTAMP:20260424T205604
CREATED:20170428T033749Z
LAST-MODIFIED:20170528T080143Z
UID:6611-1495965600-1495971000@thepoolofbethesda.org
SUMMARY:Morning Worship Service
DESCRIPTION:
URL:https://thepoolofbethesda.org/event/morning-worship-service-5/
LOCATION:Greater Bethesda Missionary Baptist Church\, 109 E 53rd St\, Chicago\, IL 60615\, USA\, 109 E 53rd Street\, Chicago\, IL\, 60615\, United States
END:VEVENT
BEGIN:VEVENT
DTSTART;TZID=America/Chicago:20170528T090000
DTEND;TZID=America/Chicago:20170528T100000
DTSTAMP:20260424T205604
CREATED:20170428T033747Z
LAST-MODIFIED:20170528T080143Z
UID:6609-1495962000-1495965600@thepoolofbethesda.org
SUMMARY:Breakfast Fellowship @ The Pool
DESCRIPTION:
URL:https://thepoolofbethesda.org/event/breakfast-fellowship-the-pool-5/
LOCATION:Greater Bethesda Missionary Baptist Church\, 109 E 53rd St\, Chicago\, IL 60615\, USA\, 109 E 53rd Street\, Chicago\, IL\, 60615\, United States
END:VEVENT
BEGIN:VEVENT
DTSTART;TZID=America/Chicago:20170528T090000
DTEND;TZID=America/Chicago:20170528T100000
DTSTAMP:20260424T205604
CREATED:20170428T033747Z
LAST-MODIFIED:20170528T080143Z
UID:6610-1495962000-1495965600@thepoolofbethesda.org
SUMMARY:Sunday School / Hour of Power Classes
DESCRIPTION:
URL:https://thepoolofbethesda.org/event/sunday-school-hour-of-power-classes-5/
LOCATION:Greater Bethesda Missionary Baptist Church\, 109 E 53rd St\, Chicago\, IL 60615\, USA\, 109 E 53rd Street\, Chicago\, IL\, 60615\, United States
END:VEVENT
BEGIN:VEVENT
DTSTART;TZID=America/Chicago:20170528T080000
DTEND;TZID=America/Chicago:20170528T090000
DTSTAMP:20260424T205604
CREATED:20170428T033747Z
LAST-MODIFIED:20170528T080142Z
UID:6608-1495958400-1495962000@thepoolofbethesda.org
SUMMARY:Early Morning Worship Service
DESCRIPTION:
URL:https://thepoolofbethesda.org/event/early-morning-worship-service-5/
LOCATION:Greater Bethesda Missionary Baptist Church\, 109 E 53rd St\, Chicago\, IL 60615\, USA\, 109 E 53rd Street\, Chicago\, IL\, 60615\, United States
END:VEVENT
BEGIN:VEVENT
DTSTART;TZID=America/Chicago:20170527T120000
DTEND;TZID=America/Chicago:20170527T130000
DTSTAMP:20260424T205604
CREATED:20170428T033747Z
LAST-MODIFIED:20170527T080130Z
UID:6607-1495886400-1495890000@thepoolofbethesda.org
SUMMARY:T.A.L.K.S. Youth Mentoring @ The Pool
DESCRIPTION:
URL:https://thepoolofbethesda.org/event/t-a-l-k-s-youth-mentoring-the-pool-2/
LOCATION:Greater Bethesda Missionary Baptist Church\, 109 E 53rd St\, Chicago\, IL 60615\, USA\, 109 E 53rd Street\, Chicago\, IL\, 60615\, United States
END:VEVENT
BEGIN:VEVENT
DTSTART;TZID=America/New_York:20170526T170000
DTEND;TZID=America/New_York:20170526T210000
DTSTAMP:20260424T205604
CREATED:20170428T105138Z
LAST-MODIFIED:20170526T145017Z
UID:7287-1495818000-1495832400@thepoolofbethesda.org
SUMMARY:Conversation On The Corner
DESCRIPTION:Conversation on the Corner – Is basically a pop up party where we help Chicago Department and the Community with Hot Spot area where a shooting or crime has happened we also use Conversation on the Corner to engage with the community and youth with no strings attached just food and music it’s also a way to meet the youth and gangs where their at to build relationships with them.
URL:https://thepoolofbethesda.org/event/conversation-on-the-corner/
LOCATION:Greater Bethesda Missionary Baptist Church\, 109 E 53rd St\, Chicago\, IL\, 60615-3303\, United States
ATTACH;FMTTYPE=image/jpeg:https://thepoolofbethesda.org/wp-content/uploads/2017/05/656ec6ad93c753f6f430447f00cdc1f5.jpg
END:VEVENT
BEGIN:VEVENT
DTSTART;TZID=America/Chicago:20170525T180000
DTEND;TZID=America/Chicago:20170525T180000
DTSTAMP:20260424T205604
CREATED:20170428T033747Z
LAST-MODIFIED:20170525T071606Z
UID:6606-1495735200-1495735200@thepoolofbethesda.org
SUMMARY:Community Dinner & Worship Experience with Saeed Richardson
DESCRIPTION:
URL:https://thepoolofbethesda.org/event/community-dinner-worship-experience-with-saeed-richardson/
LOCATION:Greater Bethesda Missionary Baptist Church\, 109 E 53rd St\, Chicago\, IL 60615\, USA\, 109 E 53rd Street\, Chicago\, IL\, 60615\, United States
END:VEVENT
BEGIN:VEVENT
DTSTART;TZID=America/Chicago:20170524T190000
DTEND;TZID=America/Chicago:20170524T203000
DTSTAMP:20260424T205604
CREATED:20170428T033745Z
LAST-MODIFIED:20170524T071543Z
UID:6605-1495652400-1495657800@thepoolofbethesda.org
SUMMARY:Wednesday Night Bible Study
DESCRIPTION:
URL:https://thepoolofbethesda.org/event/wednesday-night-bible-study-4/
LOCATION:Greater Bethesda Missionary Baptist Church\, 109 E 53rd St\, Chicago\, IL 60615\, USA\, 109 E 53rd Street\, Chicago\, IL\, 60615\, United States
END:VEVENT
BEGIN:VEVENT
DTSTART;TZID=America/Chicago:20170521T100000
DTEND;TZID=America/Chicago:20170521T113000
DTSTAMP:20260424T205604
CREATED:20170428T033745Z
LAST-MODIFIED:20170521T063728Z
UID:6604-1495360800-1495366200@thepoolofbethesda.org
SUMMARY:Morning Worship Service
DESCRIPTION:
URL:https://thepoolofbethesda.org/event/morning-worship-service-4/
LOCATION:Greater Bethesda Missionary Baptist Church\, 109 E 53rd St\, Chicago\, IL 60615\, USA\, 109 E 53rd Street\, Chicago\, IL\, 60615\, United States
END:VEVENT
BEGIN:VEVENT
DTSTART;TZID=America/Chicago:20170521T090000
DTEND;TZID=America/Chicago:20170521T100000
DTSTAMP:20260424T205604
CREATED:20170428T033745Z
LAST-MODIFIED:20170521T063728Z
UID:6603-1495357200-1495360800@thepoolofbethesda.org
SUMMARY:Sunday School / Hour of Power Classes
DESCRIPTION:
URL:https://thepoolofbethesda.org/event/sunday-school-hour-of-power-classes-4/
LOCATION:Greater Bethesda Missionary Baptist Church\, 109 E 53rd St\, Chicago\, IL 60615\, USA\, 109 E 53rd Street\, Chicago\, IL\, 60615\, United States
END:VEVENT
BEGIN:VEVENT
DTSTART;TZID=America/Chicago:20170521T090000
DTEND;TZID=America/Chicago:20170521T100000
DTSTAMP:20260424T205604
CREATED:20170428T033745Z
LAST-MODIFIED:20170521T063727Z
UID:6602-1495357200-1495360800@thepoolofbethesda.org
SUMMARY:Breakfast Fellowship @ The Pool
DESCRIPTION:
URL:https://thepoolofbethesda.org/event/breakfast-fellowship-the-pool-4/
LOCATION:Greater Bethesda Missionary Baptist Church\, 109 E 53rd St\, Chicago\, IL 60615\, USA\, 109 E 53rd Street\, Chicago\, IL\, 60615\, United States
END:VEVENT
BEGIN:VEVENT
DTSTART;TZID=America/Chicago:20170521T080000
DTEND;TZID=America/Chicago:20170521T090000
DTSTAMP:20260424T205604
CREATED:20170428T033745Z
LAST-MODIFIED:20170521T063727Z
UID:6601-1495353600-1495357200@thepoolofbethesda.org
SUMMARY:Early Morning Worship Service
DESCRIPTION:
URL:https://thepoolofbethesda.org/event/early-morning-worship-service-4/
LOCATION:Greater Bethesda Missionary Baptist Church\, 109 E 53rd St\, Chicago\, IL 60615\, USA\, 109 E 53rd Street\, Chicago\, IL\, 60615\, United States
END:VEVENT
BEGIN:VEVENT
DTSTART;VALUE=DATE:20170521
DTEND;VALUE=DATE:20170522
DTSTAMP:20260424T205604
CREATED:20170428T033743Z
LAST-MODIFIED:20170521T063727Z
UID:6600-1495324800-1495324800@thepoolofbethesda.org
SUMMARY:Annual Women's Day
DESCRIPTION:
URL:https://thepoolofbethesda.org/event/annual-womens-day/
LOCATION:IL
END:VEVENT
BEGIN:VEVENT
DTSTART;TZID=America/Chicago:20170520T120000
DTEND;TZID=America/Chicago:20170520T130000
DTSTAMP:20260424T205604
CREATED:20170428T033743Z
LAST-MODIFIED:20170520T063351Z
UID:6599-1495281600-1495285200@thepoolofbethesda.org
SUMMARY:T.A.L.K.S. Youth Mentoring @ Chicago Youth Programs
DESCRIPTION:5350 S Prairie Ave\, Chicago\, IL 60615
URL:https://thepoolofbethesda.org/event/t-a-l-k-s-youth-mentoring-chicago-youth-programs-3/
LOCATION:5350 S Prairie Ave\, Chicago\, IL 60615\, USA\, 5350 S Prairie Ave\, Chicago\, IL\, United States
END:VEVENT
BEGIN:VEVENT
DTSTART;TZID=America/Chicago:20170517T190000
DTEND;TZID=America/Chicago:20170517T203000
DTSTAMP:20260424T205604
CREATED:20170428T033743Z
LAST-MODIFIED:20170517T061147Z
UID:6598-1495047600-1495053000@thepoolofbethesda.org
SUMMARY:Wednesday Night Bible Study
DESCRIPTION:
URL:https://thepoolofbethesda.org/event/wednesday-night-bible-study-3/
LOCATION:Greater Bethesda Missionary Baptist Church\, 109 E 53rd St\, Chicago\, IL 60615\, USA\, 109 E 53rd Street\, Chicago\, IL\, 60615\, United States
END:VEVENT
BEGIN:VEVENT
DTSTART;TZID=America/Chicago:20170514T100000
DTEND;TZID=America/Chicago:20170514T113000
DTSTAMP:20260424T205604
CREATED:20170428T033742Z
LAST-MODIFIED:20170514T054732Z
UID:6596-1494756000-1494761400@thepoolofbethesda.org
SUMMARY:Morning Worship Service
DESCRIPTION:
URL:https://thepoolofbethesda.org/event/morning-worship-service-3/
LOCATION:Greater Bethesda Missionary Baptist Church\, 109 E 53rd St\, Chicago\, IL 60615\, USA\, 109 E 53rd Street\, Chicago\, IL\, 60615\, United States
END:VEVENT
BEGIN:VEVENT
DTSTART;TZID=America/Chicago:20170514T090000
DTEND;TZID=America/Chicago:20170514T100000
DTSTAMP:20260424T205604
CREATED:20170428T033741Z
LAST-MODIFIED:20170514T054732Z
UID:6594-1494752400-1494756000@thepoolofbethesda.org
SUMMARY:Breakfast Fellowship @ The Pool
DESCRIPTION:
URL:https://thepoolofbethesda.org/event/breakfast-fellowship-the-pool-3/
LOCATION:Greater Bethesda Missionary Baptist Church\, 109 E 53rd St\, Chicago\, IL 60615\, USA\, 109 E 53rd Street\, Chicago\, IL\, 60615\, United States
END:VEVENT
BEGIN:VEVENT
DTSTART;TZID=America/Chicago:20170514T090000
DTEND;TZID=America/Chicago:20170514T100000
DTSTAMP:20260424T205604
CREATED:20170428T033741Z
LAST-MODIFIED:20170514T054732Z
UID:6595-1494752400-1494756000@thepoolofbethesda.org
SUMMARY:Sunday School / Hour of Power Classes
DESCRIPTION:
URL:https://thepoolofbethesda.org/event/sunday-school-hour-of-power-classes-3/
LOCATION:Greater Bethesda Missionary Baptist Church\, 109 E 53rd St\, Chicago\, IL 60615\, USA\, 109 E 53rd Street\, Chicago\, IL\, 60615\, United States
END:VEVENT
BEGIN:VEVENT
DTSTART;TZID=America/Chicago:20170514T080000
DTEND;TZID=America/Chicago:20170514T090000
DTSTAMP:20260424T205604
CREATED:20170428T033741Z
LAST-MODIFIED:20170514T054732Z
UID:6593-1494748800-1494752400@thepoolofbethesda.org
SUMMARY:Early Morning Worship Service
DESCRIPTION:
URL:https://thepoolofbethesda.org/event/early-morning-worship-service-3/
LOCATION:Greater Bethesda Missionary Baptist Church\, 109 E 53rd St\, Chicago\, IL 60615\, USA\, 109 E 53rd Street\, Chicago\, IL\, 60615\, United States
END:VEVENT
BEGIN:VEVENT
DTSTART;VALUE=DATE:20170514
DTEND;VALUE=DATE:20170515
DTSTAMP:20260424T205604
CREATED:20170428T033741Z
LAST-MODIFIED:20170514T054731Z
UID:6592-1494720000-1494720000@thepoolofbethesda.org
SUMMARY:Mother's Day
DESCRIPTION:
URL:https://thepoolofbethesda.org/event/mothers-day/
LOCATION:IL
END:VEVENT
END:VCALENDAR